BEGIN:VCALENDAR
VERSION:2.0
PRODID:-//Spect Calendar Exporter//streuobst-zentrum.at//
BEGIN:VTIMEZONE
TZID:Europe/Vienna
BEGIN:STANDARD
DTSTART:20261025T030000
TZNAME:CET
TZOFFSETFROM:+0200
TZOFFSETTO:+0100
END:STANDARD
BEGIN:DAYLIGHT
DTSTART:20260329T020000
TZNAME:CEST
TZOFFSETFROM:+0100
TZOFFSETTO:+0200
END:DAYLIGHT
END:VTIMEZONE
BEGIN:VEVENT
SUMMARY:Apfelkulinarium 2025
DTSTART;TZID=Europe/Vienna:20251013T090000
DTEND;TZID=Europe/Vienna:20251013T170000
UID:1cba9dac3f65
DESCRIPTION:Vom 13. bis 26. Oktober stehen wieder Schafnase\, Siebenschlä
 fer\, Maschanzker\,  Goldrenette und ca. 150 weitere alte Apfelsorten im M
 ittelpunkt des Apfelkulinariums.  Neben der großen Sortenausstellung gibt
  es Verkostungen von alten\, seltenen Apfelsorten\, Schulprogramme\, Vortr
 äge\, Apfelverkauf und viele Produkte aus der Streuobstwiesn.  Hier finde
 t ihr das  detaillierte Programm . Wir freuen uns auf euren Besuch!
DTSTMP:2026-04-21 12:56:58.863898+02:00
LOCATION:Höhenstraße 4\, 7574 Burgauberg
ORGANIZER:Brigitte Gerger <info@streuobst-zentrum.at>
URL:https://streuobst-zentrum.at/event/1cba9dac3f65/apfelkulinarium-2025
END:VEVENT
END:VCALENDAR
